BEGIN:VCALENDAR
VERSION:2.0
PRODID:-//ChamberMaster//Event Calendar 2.0//EN
METHOD:PUBLISH
X-PUBLISHED-TTL:P3D
REFRESH-INTERVAL:P3D
CALSCALE:GREGORIAN
BEGIN:VEVENT
DTSTART;VALUE=DATE:20260508
DTEND;VALUE=DATE:20260510
TRANSP:TRANSPARENT
X-MICROSOFT-CDO-ALLDAYEVENT:TRUE
SUMMARY:Mother's Day Shopping Event
DESCRIPTION:Buck Wild Board Presents:\n\nPlease join us Mother's Day Weekend for Mother's Day @ the Acres!! There will be numerous local vendors\, live music by @b.ogan1985 5-8 Friday and 2-6 on Saturday\, kids scavenger hunt\, gift basket give away and more!! Come sip and shop in the Franceshi Hall @redwoodacres1 !!! You're not going to want to miss this!!\n\n\n\nSpread the word and share with your friends and family!
X-ALT-DESC;FMTTYPE=text/html:Buck Wild Board Presents:<br />\n<span style="color: rgb(8\, 8\, 9)\; font-family: &quot\;Segoe UI Historic&quot\;\, &quot\;Segoe UI&quot\;\, Helvetica\, Arial\, sans-serif\; font-size: 15px\; background-color: rgb(255\, 255\, 255)\;">Please join us Mother&rsquo\;s Day Weekend for Mother&rsquo\;s Day @ the Acres!! There will be numerous local vendors\, live music by @b.ogan1985 5-8 Friday and 2-6 on Saturday\, kids scavenger hunt\, gift basket give away and more!! Come sip and shop in the Franceshi Hall @redwoodacres1 !!! You&rsquo\;re not going to want to miss this!!</span><br class="html-br" style="color: rgb(8\, 8\, 9)\; font-family: &quot\;Segoe UI Historic&quot\;\, &quot\;Segoe UI&quot\;\, Helvetica\, Arial\, sans-serif\; font-size: 15px\; background-color: rgb(255\, 255\, 255)\;" />\n<br class="html-br" style="color: rgb(8\, 8\, 9)\; font-family: &quot\;Segoe UI Historic&quot\;\, &quot\;Segoe UI&quot\;\, Helvetica\, Arial\, sans-serif\; font-size: 15px\; background-color: rgb(255\, 255\, 255)\;" />\n<span style="color: rgb(8\, 8\, 9)\; font-family: &quot\;Segoe UI Historic&quot\;\, &quot\;Segoe UI&quot\;\, Helvetica\, Arial\, sans-serif\; font-size: 15px\; background-color: rgb(255\, 255\, 255)\;">Spread the word and share with your friends and family!</span>
LOCATION:
UID:e.3418.2665
SEQUENCE:3
DTSTAMP:20260422T231608Z
URL:https://members.fortunachamber.com/events/details/mother-s-day-shopping-event-2665
END:VEVENT

END:VCALENDAR
