BEGIN:VCALENDAR
VERSION:2.0
PRODID:-//ChamberMaster//Event Calendar 2.0//EN
METHOD:PUBLISH
X-PUBLISHED-TTL:P3D
REFRESH-INTERVAL:P3D
CALSCALE:GREGORIAN
BEGIN:VEVENT
DTSTART:20260412T003000Z
DTEND:20260412T030000Z
X-MICROSOFT-CDO-ALLDAYEVENT:FALSE
SUMMARY:Future Fortuna Workshop
DESCRIPTION:If you live\, work\, go to school\, raise a family\, or simply care about Fortuna\, this is for you! We hope you'll join us for both workshops!\n\n \n\nWorkshop #1: "Imagine Future Fortuna"\n\n  What it's about: Share your ideas and help shape Fortuna's future!\n\n  Date: Wednesday\, March 25th\, 2026.\n\n  Time: Doors open at 4pm for preview\; Workshop starts at 5:30pm.\n\n \n\nWorkshop #2: "Chart a Course for Future Fortuna"\n\n  What it's about: Review feedback from Workshop #1\, share more ideas\, help prioritize input.\n\n  Date: Saturday\, April 11\, 2026.\n\n  Time: Doors open at 10am for preview\, Workshop starts at 11am.\n\n \n\nWhat else you can expect: Snacks/Drinks | Childcare for ages 5+ | traducci n al espa ol | teen & youth spaces | casual lounge space\n\nFor more information\, check out the Fortuna Listening Campaign Report
X-ALT-DESC;FMTTYPE=text/html:<div class="xdj266r x14z9mp xat24cr x1lziwak x1vvkbs" style="overflow-wrap: break-word\; margin-inline: 0px\; margin-bottom: 0px\; margin-top: 0px\; font-family: &quot\;Segoe UI Historic&quot\;\, &quot\;Segoe UI&quot\;\, Helvetica\, Arial\, sans-serif\; color: rgb(8\, 8\, 9)\; font-size: 15px\; background-color: rgb(255\, 255\, 255)\;">If you live\, work\, go to school\, raise a family\, or simply care about Fortuna\, this is for you! We hope you&#39\;ll join us for both workshops!</div>\n\n<div class="x14z9mp xat24cr x1lziwak x1vvkbs xtlvy1s" style="overflow-wrap: break-word\; margin-top: 0.5em\; margin-inline: 0px\; margin-bottom: 0px\; font-family: &quot\;Segoe UI Historic&quot\;\, &quot\;Segoe UI&quot\;\, Helvetica\, Arial\, sans-serif\; color: rgb(8\, 8\, 9)\; font-size: 15px\; background-color: rgb(255\, 255\, 255)\;">&nbsp\;</div>\n\n<div class="x14z9mp xat24cr x1lziwak x1vvkbs xtlvy1s" style="overflow-wrap: break-word\; margin-top: 0.5em\; margin-inline: 0px\; margin-bottom: 0px\; font-family: &quot\;Segoe UI Historic&quot\;\, &quot\;Segoe UI&quot\;\, Helvetica\, Arial\, sans-serif\; color: rgb(8\, 8\, 9)\; font-size: 15px\; background-color: rgb(255\, 255\, 255)\;">Workshop #1: &quot\;Imagine Future Fortuna&quot\;<br class="html-br" />\n&bull\; What it&#39\;s about: Share your ideas and help shape Fortuna&#39\;s future!<br class="html-br" />\n&bull\; Date: Wednesday\, March 25th\, 2026.<br class="html-br" />\n&bull\; Time: Doors open at 4pm for preview\; Workshop starts at 5:30pm.</div>\n\n<div class="x14z9mp xat24cr x1lziwak x1vvkbs xtlvy1s" style="overflow-wrap: break-word\; margin-top: 0.5em\; margin-inline: 0px\; margin-bottom: 0px\; font-family: &quot\;Segoe UI Historic&quot\;\, &quot\;Segoe UI&quot\;\, Helvetica\, Arial\, sans-serif\; color: rgb(8\, 8\, 9)\; font-size: 15px\; background-color: rgb(255\, 255\, 255)\;">&nbsp\;</div>\n\n<div class="x14z9mp xat24cr x1lziwak x1vvkbs xtlvy1s" style="overflow-wrap: break-word\; margin-top: 0.5em\; margin-inline: 0px\; margin-bottom: 0px\; font-family: &quot\;Segoe UI Historic&quot\;\, &quot\;Segoe UI&quot\;\, Helvetica\, Arial\, sans-serif\; color: rgb(8\, 8\, 9)\; font-size: 15px\; background-color: rgb(255\, 255\, 255)\;">Workshop #2: &quot\;Chart a Course for Future Fortuna&quot\;<br class="html-br" />\n&bull\; What it&#39\;s about: Review feedback from Workshop #1\, share more ideas\, help prioritize input.<br class="html-br" />\n&bull\; Date: Saturday\, April 11\, 2026.<br class="html-br" />\n&bull\; Time: Doors open at 10am for preview\, Workshop starts at 11am.</div>\n\n<div class="x14z9mp xat24cr x1lziwak x1vvkbs xtlvy1s" style="overflow-wrap: break-word\; margin-top: 0.5em\; margin-inline: 0px\; margin-bottom: 0px\; font-family: &quot\;Segoe UI Historic&quot\;\, &quot\;Segoe UI&quot\;\, Helvetica\, Arial\, sans-serif\; color: rgb(8\, 8\, 9)\; font-size: 15px\; background-color: rgb(255\, 255\, 255)\;">&nbsp\;</div>\n\n<div class="x14z9mp xat24cr x1lziwak x1vvkbs xtlvy1s" style="overflow-wrap: break-word\; margin-top: 0.5em\; margin-inline: 0px\; margin-bottom: 0px\; font-family: &quot\;Segoe UI Historic&quot\;\, &quot\;Segoe UI&quot\;\, Helvetica\, Arial\, sans-serif\; color: rgb(8\, 8\, 9)\; font-size: 15px\; background-color: rgb(255\, 255\, 255)\;">What else you can expect: Snacks/Drinks | Childcare for ages 5+ | traducci&oacute\;n al espa&ntilde\;ol | teen &amp\; youth spaces | casual lounge space</div>\n\n<div class="x14z9mp xat24cr x1lziwak x1vvkbs xtlvy1s" style="overflow-wrap: break-word\; margin-top: 0.5em\; margin-inline: 0px\; margin-bottom: 0px\; font-family: &quot\;Segoe UI Historic&quot\;\, &quot\;Segoe UI&quot\;\, Helvetica\, Arial\, sans-serif\; color: rgb(8\, 8\, 9)\; font-size: 15px\; background-color: rgb(255\, 255\, 255)\;">For more information\, check out the Fortuna Listening Campaign Report</div>\n
LOCATION:
UID:e.3418.2594
SEQUENCE:3
DTSTAMP:20260419T191620Z
URL:https://members.fortunachamber.com/events/details/future-fortuna-workshop-2594
END:VEVENT

END:VCALENDAR
