BEGIN:VCALENDAR
VERSION:2.0
PRODID:-//ChamberMaster//Event Calendar 2.0//EN
METHOD:PUBLISH
X-PUBLISHED-TTL:P3D
REFRESH-INTERVAL:P3D
CALSCALE:GREGORIAN
BEGIN:VEVENT
DTSTART;VALUE=DATE:20260429
DTEND;VALUE=DATE:20260430
TRANSP:TRANSPARENT
X-MICROSOFT-CDO-ALLDAYEVENT:TRUE
SUMMARY:Community Dinner @ Van Duzen Grange
DESCRIPTION:Wednesday\, April 29th\, come enjoy a great dinner with your friends and neighbors at the Van Duzen Grange. Chili cheese dogs and fruit is what's for dinner!
X-ALT-DESC;FMTTYPE=text/html:<span style="color: rgb(8\, 8\, 9)\; font-family: &quot\;Segoe UI Historic&quot\;\, &quot\;Segoe UI&quot\;\, Helvetica\, Arial\, sans-serif\; font-size: 15px\; white-space: pre-wrap\; background-color: rgb(255\, 255\, 255)\;">Wednesday\, April 29th\, come enjoy a great dinner with your friends and neighbors at the Van Duzen Grange. Chili cheese dogs and fruit is what&#39\;s for dinner!</span>
LOCATION:
UID:e.3418.2663
SEQUENCE:3
DTSTAMP:20260422T214520Z
URL:https://members.fortunachamber.com/events/details/community-dinner-van-duzen-grange-2663
END:VEVENT

END:VCALENDAR
